BEGIN:VCALENDAR
PRODID:-//AT Content Types//AT Event//EN
VERSION:2.0
METHOD:PUBLISH
BEGIN:VEVENT
DTSTAMP:20260420T233746Z
CREATED:20240410T103038Z
UID:ATEvent-afb675bbe54f4ce3ac31d786faf34571
LAST-MODIFIED:20240412T111504Z
SUMMARY:Tullibody Tenants and Residents' Group Meeting - Tullibody Civic Centre
DTSTART:20240422T180000Z
DTEND:20240422T190000Z
DESCRIPTION:If you are interested in becoming involved and making a di
 fference to your community\, please come along to the meeting\, which 
 will be held at Tullibody Civic Centre.\n\nWe will focus on repairs an
 d maintenance\, antisocial behaviour\, allocations and tenancy managem
 ent.
CLASS:PUBLIC
END:VEVENT
END:VCALENDAR
