BEGIN:VCALENDAR
PRODID:-//AT Content Types//AT Event//EN
VERSION:2.0
METHOD:PUBLISH
BEGIN:VEVENT
DTSTAMP:20260421T010508Z
CREATED:20240409T145949Z
UID:ATEvent-93265b8dee504b558d1b814650e344c3
LAST-MODIFIED:20240412T111504Z
SUMMARY:Alva Tenants and Residents' Group Meeting - Alva Academy
DTSTART:20240508T180000Z
DTEND:20240508T190000Z
DESCRIPTION:If you are interested in becoming involved and making a di
 fference to your community\, please come along to the meeting\, which 
 will be held at Alva Academy.\n\nWe will focus on repairs and maintena
 nce\, antisocial behaviour\, allocations and tenancy management.
CLASS:PUBLIC
END:VEVENT
END:VCALENDAR
