BEGIN:VCALENDAR
PRODID:-//AT Content Types//AT Event//EN
VERSION:2.0
METHOD:PUBLISH
BEGIN:VEVENT
DTSTAMP:20260420T233542Z
CREATED:20240409T145949Z
UID:ATEvent-6006d647145b42719fce4872631b3c19
LAST-MODIFIED:20240412T111504Z
SUMMARY:Alloa Tenants and Residents' Group Meeting - Alloa Academy
DTSTART:20240417T180000Z
DTEND:20240417T190000Z
DESCRIPTION:If you are interested in becoming involved and making a di
 fference to your community\, please come along to the meeting\, which 
 will be held at Alloa Academy.\n\nWe will focus on repairs and mainten
 ance\, antisocial behaviour\, allocations and tenancy management.
CLASS:PUBLIC
END:VEVENT
END:VCALENDAR
