BEGIN:VCALENDAR
PRODID:-//AT Content Types//AT Event//EN
VERSION:2.0
METHOD:PUBLISH
BEGIN:VEVENT
DTSTAMP:20260425T103527Z
CREATED:20211206T080942Z
UID:ATEvent-6ffa4c7944044fcaafcf18c5a7dba01f
LAST-MODIFIED:20211206T090555Z
SUMMARY:HRA Rent Consultation online drop-in session
DTSTART:20211208T160000Z
DTEND:20211208T170000Z
DESCRIPTION:Sessions will initially be held virtually via MS Teams. If
  you are interested in attending\, please book your place by emailing 
 housing@clacks.gov.uk\n\nYou can also email housing@clacks.gov.uk if y
 ou have difficulty in accessing MS Teams.
CLASS:PUBLIC
END:VEVENT
END:VCALENDAR
