BEGIN:VCALENDAR
PRODID:-//AT Content Types//AT Event//EN
VERSION:2.0
METHOD:PUBLISH
BEGIN:VEVENT
DTSTAMP:20260423T085308Z
CREATED:20220106T105717Z
UID:ATEvent-76aa99dacfa64d28bd96e23207ed960a
LAST-MODIFIED:20220207T131008Z
SUMMARY:Virtual Public Meeting
DTSTART:20220302T190000Z
DTEND:20220302T200000Z
DESCRIPTION:Please email education@clacks.gov.uk by Tuesday 22 Februar
 y 2022 for joining instructions.\n\nWe would urge anyone who would lik
 e to participate\, but feel they would be limited by this approach\, t
 o contact Education directly to discuss on 01259 450000.
CLASS:PUBLIC
END:VEVENT
END:VCALENDAR
